BEGIN:VCALENDAR
VERSION:2.0
PRODID:-//Tukios.com/
BEGIN:VEVENT
UID:442d435d-9149-4586-b888-a1353dc30037@www.boulevardfh.com
DTSTAMP:20260424T210823Z
DTSTART:20260428T130000Z
DTEND:20260428T143000Z
SUMMARY:Visitation
DESCRIPTION:
URL:https://www.boulevardfh.com/obituaries/ailey-ferreira
LOCATION:Boulevard Funeral Home 223 Ashley Blvd  New Bedford MA 02746
GEO:41.6612797;-70.9301423
END:VEVENT
END:VCALENDAR