BEGIN:VCALENDAR
VERSION:2.0
PRODID:-//Tukios.com/
BEGIN:VEVENT
UID:cceea67a-e590-4713-a481-9731283ae4b6@www.boulevardfh.com
DTSTAMP:20260424T210823Z
DTSTART:20260428T150000Z
DTEND:20260428T160000Z
SUMMARY:Mass
DESCRIPTION:
URL:https://www.boulevardfh.com/obituaries/ailey-ferreira
LOCATION:St. Gabriel the Archangel Parish 343 Tarkiln Hill Road  New 
	Bedford MA 02745
GEO:41.6822724;-70.9311885
END:VEVENT
END:VCALENDAR